BEGIN:VCALENDAR
VERSION:2.0
PRODID:-//Civil Kollégium Alapítvány - ECPv6.15.20//NONSGML v1.0//EN
CALSCALE:GREGORIAN
METHOD:PUBLISH
X-ORIGINAL-URL:https://www.cka.hu
X-WR-CALDESC:Események Civil Kollégium Alapítvány
REFRESH-INTERVAL;VALUE=DURATION:PT1H
X-Robots-Tag:noindex
X-PUBLISHED-TTL:PT1H
BEGIN:VTIMEZONE
TZID:Europe/Helsinki
BEGIN:DAYLIGHT
TZOFFSETFROM:+0200
TZOFFSETTO:+0300
TZNAME:EEST
DTSTART:20230326T010000
END:DAYLIGHT
BEGIN:STANDARD
TZOFFSETFROM:+0300
TZOFFSETTO:+0200
TZNAME:EET
DTSTART:20231029T010000
END:STANDARD
BEGIN:DAYLIGHT
TZOFFSETFROM:+0200
TZOFFSETTO:+0300
TZNAME:EEST
DTSTART:20240331T010000
END:DAYLIGHT
BEGIN:STANDARD
TZOFFSETFROM:+0300
TZOFFSETTO:+0200
TZNAME:EET
DTSTART:20241027T010000
END:STANDARD
BEGIN:DAYLIGHT
TZOFFSETFROM:+0200
TZOFFSETTO:+0300
TZNAME:EEST
DTSTART:20250330T010000
END:DAYLIGHT
BEGIN:STANDARD
TZOFFSETFROM:+0300
TZOFFSETTO:+0200
TZNAME:EET
DTSTART:20251026T010000
END:STANDARD
END:VTIMEZONE
BEGIN:VEVENT
DTSTART;VALUE=DATE:20240209
DTEND;VALUE=DATE:20240213
DTSTAMP:20260421T181941
CREATED:20231220T181055Z
LAST-MODIFIED:20240202T124926Z
UID:20516-1707444000-1707703199@www.cka.hu
SUMMARY:Bevezetés a közösségszervezésbe képzés
DESCRIPTION:MEGTELT!!\nA kép­zés­re a jelent­ke­zés lezárult.\n✍️Ha úgy érzed\, lema­rad­tál\, kér­jük\, irat­kozz fel hír­le­ve­lünk­re\, hogy idő­ben érte­sülj a követ­ke­ző kép­zé­si lehetőségről!\nFELIRATKOZÁS HÍRLEVÉLRE! \nÉrje­tek el tár­sa­dal­mi vál­to­zást közö­sen! — Beve­ze­tés a közös­ség­szer­ve­zés­be képzés \nIdő­pont: 2024. feb­ru­ár 9 — 11.-ig (pén­tek dél­től\, vasár­nap dél­utá­nig\, 24 tanóra) \nHely­szín: Kun­bá­bo­nyi Kép­zé­si Központ \nNagyon fog­lal­koz­tat egy érin­tett közös­ség prob­lé­má­ja\, de úgy érzed\, hogy nem moz­dul­nak\, érdek­te­le­nek a körü­löt­ted lévők a témá­val kap­cso­lat­ban — legyen az okta­tás prob­lé­má­ja\, kire­kesz­tés\, közös­sé­gi össze­fo­gás hiá­nya egy jó ügyért és hasonlók? \nMár elkezd­tél szer­vez­ked­ni\, de még csak kevés embert tud­tál mozgósítani? \nVagy nem is tudod\, hogyan fogj hozzá? \nJelent­kezz kép­zé­sünk­re és segí­tünk meg­erő­sí­te­ni közös­sé­ged a haté­kony érdek­ér­vé­nye­sí­tés­hez! Ezt a kép­zé­si alkal­mat első­sor­ban roma szár­ma­zá­sú vagy roma közös­sé­gek iránt érdek­lő­dő embe­rek­nek ajánljuk. \nMire szá­mít­hatsz? Ezek lesz­nek a témái a képzésnek: \n\n A közös­ség­szer­ve­zés\, a közös­sé­gi érdek­ér­vé­nye­sí­tés lépé­sei\, alapfogalmai\n Stra­té­gia és kam­pány­ter­ve­zés technikák\n Figye­lem­kel­tő és nyo­más­gya­kor­ló taktikák\n A cso­port­mű­kö­dés és a demok­ra­ti­kus szervezetépítés\n Fenn­tart­ha­tó­ság és a közös­ség­szer­ve­zés alkal­ma­zá­sa a saját szervezetre\n\nA kép­zé­sen való rész­vé­tel ingyenes! \nAzon­ban a tel­jes kép­zés Civil Kol­lé­gi­um Ala­pít­vány­nak 85.000 Ft ‑ba kerül részt­ve­vőn­ként\, ha ebből az összeg­ből bár­mennyit be tudsz fizet­ni ado­mány­ként\, akkor lehe­tő­vé teszed\, hogy a jövő­ben is hason­ló szín­vo­na­las kép­zé­se­ket\, prog­ra­mo­kat tud­junk megvalósítani. \nNagyon örü­lünk\, ha támo­gat­ni tudod a CKA‑t a tel­jes költ­ség befi­ze­té­sé­vel\, mely a követ­ke­ző­ket tartalmazza: \n\n24 óra kép­zés tapasz­talt\, Magyar­or­szá­gon közös­sé­gi érdek­ér­vé­nye­sí­tést vég­ző oktatókkal.\n2 éjsza­ka szál­lás a gyö­nyö­rű\, csen­des kör­nye­zet­ben lévő Kun­bá­bo­nyi Kép­zé­si Köz­pon­tunk­ban 2–3 fős\, für­dő­szo­bás szobákban.\nTel­jes étke­zés a kép­zés 3 nap­já­ra (első nap ebéd és vacso­ra\, har­ma­dik nap reg­ge­li és ebéd). Az éte­lek hús­men­te­sen készülnek.\n\nA kép­zést Balogh Fru­zsi­na\, a CKA tré­ne­re és roma mun­ka­cso­port­já­nak tag­ja\, vala­mint Giczey Péter tart­ja\, aki a CKA szak­mai veze­tő­je\, közös­ség­szer­ve­ző men­tor és tréner. \nA kép­zé­si prog­ram­ba való bekap­cso­ló­dás feltételei: \n\nbetöl­tött 16. életév\nmini­mum 8 álta­lá­nos isko­lai végzettség\n\nJelent­ke­zé­si határ­idő: 2024. feb­ru­ár 1.
URL:https://www.cka.hu/event/bevezetes-a-kozossegszervezesbe-kepzes/
LOCATION:6090 Kunszentmiklós\, Kunbábony 37/2.\, Kunbábony 37/2.\, Kunszentmiklós\, Bács-Kiskun megye\, 6090\, Magyarország
CATEGORIES:Képzés
ATTACH;FMTTYPE=image/jpeg:https://www.cka.hu/wp-content/uploads/2023/12/425499873_796368309192810_3829193036730239798_n.jpg
ORGANIZER;CN="Civil Koll%C3%A9gium Alap%C3%ADtv%C3%A1ny":MAILTO:info@cka.hu
END:VEVENT
END:VCALENDAR