BEGIN:VCALENDAR
VERSION:2.0
PRODID:-//Civil Kollégium Alapítvány - ECPv6.15.20//NONSGML v1.0//EN
CALSCALE:GREGORIAN
METHOD:PUBLISH
X-ORIGINAL-URL:https://www.cka.hu
X-WR-CALDESC:Események Civil Kollégium Alapítvány
REFRESH-INTERVAL;VALUE=DURATION:PT1H
X-Robots-Tag:noindex
X-PUBLISHED-TTL:PT1H
BEGIN:VTIMEZONE
TZID:Europe/Helsinki
BEGIN:DAYLIGHT
TZOFFSETFROM:+0200
TZOFFSETTO:+0300
TZNAME:EEST
DTSTART:20230326T010000
END:DAYLIGHT
BEGIN:STANDARD
TZOFFSETFROM:+0300
TZOFFSETTO:+0200
TZNAME:EET
DTSTART:20231029T010000
END:STANDARD
BEGIN:DAYLIGHT
TZOFFSETFROM:+0200
TZOFFSETTO:+0300
TZNAME:EEST
DTSTART:20240331T010000
END:DAYLIGHT
BEGIN:STANDARD
TZOFFSETFROM:+0300
TZOFFSETTO:+0200
TZNAME:EET
DTSTART:20241027T010000
END:STANDARD
BEGIN:DAYLIGHT
TZOFFSETFROM:+0200
TZOFFSETTO:+0300
TZNAME:EEST
DTSTART:20250330T010000
END:DAYLIGHT
BEGIN:STANDARD
TZOFFSETFROM:+0300
TZOFFSETTO:+0200
TZNAME:EET
DTSTART:20251026T010000
END:STANDARD
END:VTIMEZONE
BEGIN:VEVENT
DTSTART;TZID=Europe/Helsinki:20240220T193000
DTEND;TZID=Europe/Helsinki:20240220T223000
DTSTAMP:20260421T184404
CREATED:20240201T100321Z
LAST-MODIFIED:20240220T121228Z
UID:20670-1708457400-1708468200@www.cka.hu
SUMMARY:Tiszta Szavazásért - online workshop
DESCRIPTION:Online work­shop több időpontban! \nKöz­is­mert\, hogy Magyar­or­szá­gon évti­ze­dek óta\, a poli­ti­kai pártok\,\njelöl­tek egy része rend­sze­re­sen hasz­nál olyan esz­kö­zö­ket a választások\nsorán\, amellyel sér­ti a ver­seny tisztaságát. \n❌Ezen esz­kö­zök egy része csak eti­kát­lan\, más része kimon­dot­tan tör­vényt sért. \nIlyen a kom­mu­ni­ká­ci­ós kam­pá­nyok­ban az ellen­fél lejá­ra­tá­sa\, valót­lan állí­tá­sok ter­jesz­té­se\, ijeszt­ge­tés vagy konk­rét féle­lem­kel­tés. Van­nak olyan esz­kö­zök is\, ame­lyek kevés­bé lát­vá­nyo­sak\, ám sok­kal erő­tel­je­sebb hatást gya­ko­rol­nak az embe­rek­re a válasz­tá­sok alkal­má­val. Ilyen a mun­ka­hely ígé­re­te vagy mun­ka­hely elvesz­té­sé­vel való fenye­ge­tés\, idő­sek ott­ho­ná­ban a gon­do­zot­tak befo­lyá­so­lá­sa\, illet­ve ha egy tele­pü­lés vagy közös­ség befo­lyá­sos embe­re mond­ja meg\, hogy kire „kell” sza­vaz­ni. A sza­va­zók kény­sze­rí­té­se vagy ellen­té­te­le­zé­se azért\, hogy másik cím­re jelent­sék be magu­kat és ott sza­vaz­za­nak\, vagy ha tud­tu­kon kívül jelen­tik át őket a nem­ze­ti­sé­gi lis­ták­ra. Anya­gi elő­nyök ígé­re­te vagy konk­rét aján­dé­ko­zás\, szo­ci­á­lis jut­ta­tá­sok meg­vo­ná­sá­val való fenye­ge­tés\, vagy konk­ré­tan a sza­va­za­tok meg­vá­sár­lá­sa a válasz­tás napján. \n✅A Civil Kol­lé­gi­um Ala­pít­vány a Poli­ti­cal Cap­ital-el\, a TASZ-szal\nközö­sen dol­goz­ta ki az egy nap­ra eső önkor­mány­za­ti és EU Parlamenti\nválasz­tás­sal kap­cso­la­tos tud­ni­va­ló­kat és mutat­ja be a visszaélések\nmód­ját. Kam­pá­nyunk cél­ja\, hogy a válasz­tá­si vissza­élé­sek különböző\nfor­má­i­val és azok elke­rü­lé­sé­nek lehe­tő­sé­ge­i­vel meg­is­mer­tes­sük a magyar tár­sa­dal­mat. Segí­tünk fel­is­mer­ni\, meg­ér­te­ni\, hogy hogyan zaj­lik a\nválasz­tók befo­lyá­so­lá­sa\, miért és hogyan mon­da­nak le embe­rek a\nválasz­tó­jo­guk­ról vélt elő­nyök\, zsa­ro­lás\, meg­vesz­te­ge­tés\, kényszerítés\nmiatt\, és hogyan lehet ez ellen tenni. \nA prog­ram kere­té­ben online műhe­lye­ket tar­tunk\, ahol szakértőink\nsegít­sé­gé­vel mélyeb­ben meg­is­mer­he­ti­tek a válasz­tók befolyásolásának\neszközeit. \n⏰A három­órás online műhe­lyek azo­nos tar­ta­lom­mal bír­nak\, kér­jük\, regiszt­rálj a szá­mod­ra meg­fe­le­lő időpontra:\nFeb­ru­ár 20. 17–20h\nMár­ci­us 7\, 17–20h\nMár­ci­us 9. 10–13h \nA jelent­ke­zés a feb­ru­ár 20‑i alka­lom­ra lezárult. \nREGISZTRÁCIÓ! https://www.cka.hu/tiszta-szavazasert-online-workshop \nA Tisz­ta Sza­va­zás prog­ram meg­va­ló­su­lá­sá­ban a Civil Kol­lé­gi­um Ala­pít­vány\, a TASZ és a Poli­ti­cal Cap­ital műkö­dik közre.
URL:https://www.cka.hu/event/tiszta-szavazasert-workshop/
CATEGORIES:workshop
ATTACH;FMTTYPE=image/png:https://www.cka.hu/wp-content/uploads/2024/02/tiszta-szavazas-muhely.png
END:VEVENT
END:VCALENDAR