BEGIN:VCALENDAR
VERSION:2.0
PRODID:-//Civil Kollégium Alapítvány - ECPv6.15.20//NONSGML v1.0//EN
CALSCALE:GREGORIAN
METHOD:PUBLISH
X-ORIGINAL-URL:https://www.cka.hu
X-WR-CALDESC:Események Civil Kollégium Alapítvány
REFRESH-INTERVAL;VALUE=DURATION:PT1H
X-Robots-Tag:noindex
X-PUBLISHED-TTL:PT1H
BEGIN:VTIMEZONE
TZID:Europe/Helsinki
BEGIN:DAYLIGHT
TZOFFSETFROM:+0200
TZOFFSETTO:+0300
TZNAME:EEST
DTSTART:20230326T010000
END:DAYLIGHT
BEGIN:STANDARD
TZOFFSETFROM:+0300
TZOFFSETTO:+0200
TZNAME:EET
DTSTART:20231029T010000
END:STANDARD
BEGIN:DAYLIGHT
TZOFFSETFROM:+0200
TZOFFSETTO:+0300
TZNAME:EEST
DTSTART:20240331T010000
END:DAYLIGHT
BEGIN:STANDARD
TZOFFSETFROM:+0300
TZOFFSETTO:+0200
TZNAME:EET
DTSTART:20241027T010000
END:STANDARD
BEGIN:DAYLIGHT
TZOFFSETFROM:+0200
TZOFFSETTO:+0300
TZNAME:EEST
DTSTART:20250330T010000
END:DAYLIGHT
BEGIN:STANDARD
TZOFFSETFROM:+0300
TZOFFSETTO:+0200
TZNAME:EET
DTSTART:20251026T010000
END:STANDARD
END:VTIMEZONE
BEGIN:VEVENT
DTSTART;TZID=Europe/Helsinki:20240419T150000
DTEND;TZID=Europe/Helsinki:20240421T190000
DTSTAMP:20260421T133732
CREATED:20240302T125327Z
LAST-MODIFIED:20240418T044806Z
UID:20916-1713538800-1713726000@www.cka.hu
SUMMARY:Csoportdinamika képzés civil szervezeteknek\, Kunbábony
DESCRIPTION:A kép­zés cél­ja\, hogy a közös­ség­szer­ve­zők és közös­sé­gi veze­tők cso­por­tok­kal és cso­por­tok­ban vég­zett szer­ve­zői mun­ká­já­hoz adjon szem­pon­to­kat\, mód­sze­re­ket és eszközöket. \nNeked szól a kép­zés\, ha közös­ség­szer­ve­ző­ként vagy közös­sé­gi veze­tő­ként sze­ret­néd job­ban meg­ér­te­ni a cso­port műkö­dé­sét\, sze­ret­nél tech­ni­ká­kat és esz­kö­zö­ket a konf­lik­tu­sok keze­lé­sé­re\, a cso­por­ton belü­li kom­mu­ni­ká­ció javítására. \nA kép­zé­si prog­ram öt tan­anyag­egy­ség­ből áll: \n\nAz ügy és a cso­port viszo­nya – a közös­ség­szer­ve­zés folya­ma­ta és a cso­port­di­na­mi­ka egy­más­ra hatása\nA cso­por­ton belü­li dina­mi­kák és kommunikáció\nKözös­ség­szer­ve­ző sze­re­pe – cso­port­ve­ze­tő szerepe\nVál­to­zás­ke­ze­lés\, konf­lik­tus­ke­ze­lés és együttműködés\nCso­port és a kül­ső kör­nye­zet viszo­nya: cso­por­tok közöt­ti dina­mi­kák\, együtt­mű­kö­dé­sek\, hatások\n\nA kép­zés óra­szá­ma: 24 óra \nA kép­zé­si prog­ram­ba való bekap­cso­ló­dás feltételei: \n\nbetöl­tött 18. életév\nmini­mum 8 álta­lá­nos isko­lai végzettség\n\nA kép­zé­sen való rész­vé­tel ingyenes! \nAzon­ban a Civil Kol­lé­gi­um Ala­pít­vány­nak a 24 órás kép­zés 110.000 Ft ‑ba kerül résztvevőnként. \nHa a költ­sé­gek­hez bár­mi­lyen mér­ték­ben hoz­zá tudsz járul­ni\, akkor lehe­tő­vé teszed\, hogy a jövő­ben is hason­ló szín­vo­na­las kép­zé­se­ket\, prog­ra­mo­kat tud­junk megvalósítani. \nA hoz­zá­já­ru­lás mér­té­két a jelent­ke­zé­si lapon tudod beje­löl­ni\, a fize­té­si mód­dal együtt. \n-    Ado­mány­ként a https://www.cka.hu/tamogatas/ olda­lon tudod az össze­get befizetni. \n-    Kérés­re szám­lát bocsá­tunk ki\, amely alap­ján átuta­lás­sal tudod fedez­ni a vál­lalt hozzájárulást. \nA követ­ke­ző­ket biz­to­sít­juk a kép­zé­sen részt­ve­vők­nek a hoz­zá­já­ru­lás mér­té­ké­től függetlenül: \n✅ 24 órás elmé­le­ti\, de gya­kor­lat­ori­en­tált kép­zés tapasz­talt\, Magyar­or­szá­gon közös­sé­gi érdek­ér­vé­nye­sí­tést vég­ző tanárokkal. \n✅ Szál­lás két éjsza­ká­ra a Kun­bá­bo­nyi Kép­zé­si Központban \n✅ Tel­jes étke­zés a kép­zés 3 nap­já­ra (első nap ebéd és vacso­ra\, har­ma­dik nap reg­ge­li és ebéd). \nNagyon örü­lünk\, ha támo­gat­ni tudod a CKA‑t a tel­jes költ­ség befizetésével! \nTré­ne­re­ink: Kánya Kin­ga és Pocsu­valszky Alíz. \nJelent­ke­zé­si határ­idő: 2024. ápri­lis 10. \nA regiszt­rá­ci­ós lap kitöl­té­se után\, e‑mailben fogunk érte­sí­te­ni a jelent­ke­zé­sed elfogadásáról. \nA jelentkezés lezárult!\nHa úgy érzed lema­rad­tál\, írj e‑mailt a kepzes@cka.hu e‑mailcímre.
URL:https://www.cka.hu/event/csoportdinamika-kepzes-civil-szervezeteknek-kunbabony/
LOCATION:Civil Kollégium Képzési Központ\, Kunbábony 37/2.\, Kunszentmiklós\, Bács-Kiskun megye\, 6090\, Magyarország
ATTACH;FMTTYPE=image/png:https://www.cka.hu/wp-content/uploads/2024/03/csoop.png
END:VEVENT
BEGIN:VEVENT
DTSTART;TZID=Europe/Helsinki:20240423T190000
DTEND;TZID=Europe/Helsinki:20240423T220000
DTSTAMP:20260421T133733
CREATED:20240409T102503Z
LAST-MODIFIED:20240423T134628Z
UID:21494-1713898800-1713909600@www.cka.hu
SUMMARY:Tiszta szavazás - online workshop
DESCRIPTION:⏰2024. ápri­lis 23.\, 17.00–18.30 \nMagyar­or­szá­gon  saj­nos nem rit­ka\, hogy a poli­ti­kai pár­tok és jelöl­tek egy része olyan mód­sze­re­ket alkal­maz a válasz­tás során\, ame­lyek sért­he­tik a válasz­tá­si ver­seny tisztaságát. \n❌Ezek az esz­kö­zök több­nyi­re nem csu­pán eti­kát­la­nok\, hanem gyak­ran tör­vény­be ütkö­ző­ek is. Ilyen pél­dá­ul az ellen­fél lejá­ra­tá­sa kom­mu­ni­ká­ci­ós kam­pá­nyok­ban\, valót­lan állí­tá­sok ter­jesz­té­se\, ijeszt­ge­tés vagy akár konk­rét félelemkeltés. \nDe van­nak kevés­bé fel­tű­nő mód­sze­rek is\, ame­lyek még­is komoly hatást gya­ko­rol­nak a válasz­tók­ra. Ilyen pél­dá­ul a mun­ka­hely ígé­re­te vagy annak elvesz­té­sé­vel való fenye­ge­tés\, az idő­sek ott­ho­ná­ban élők befo­lyá­so­lá­sa\, vagy akár egy tele­pü­lés vagy közös­ség befo­lyá­sos sze­mé­lyé­nek nyo­má­sa arra\, hogy kire szavazzanak. \nGyak­ran kény­sze­rí­tik vagy ellen­té­te­le­zik a válasz­tó­kat\, hogy másik cím­re jelent­sék be magu­kat és ott adják le vok­su­kat  vagy tud­tu­kon kívül jelen­tik át őket a nem­ze­ti­sé­gi lis­ták­ra.  Elő­for­dul­hat­nak olyan tak­ti­kák is\, mint az anya­gi elő­nyök ígé­re­te\, akár konk­rét aján­dé­ko­zás\, eset­leg szoci­á­lis jut­ta­tá­sok meg­vo­ná­sá­val való fenye­ge­tése  vagy akár a sza­va­za­tok vásár­lá­sa a válasz­tás napján. \n✅A mi esz­kö­zünk a tudás!! \nA Civil Kol­lé­gi­um Ala­pít­vány a Poli­ti­cal Cap­ital-lel és a TASZ-szal együtt­mű­köd­ve olyan prog­ra­mot dol­go­zott ki\, amely cél­ja a 2024-es euró­pai par­la­men­ti és önkor­mány­za­ti válasz­tás­sal kap­cso­la­tos tud­ni­va­lók átadá­sa.  A kam­pá­nyunk  során bemu­tat­juk a külön­bö­ző vissza­élé­sek for­má­it és azok elke­rü­lé­sé­nek\, meg­elő­zé­sé­nek lehetőségeit.  \nSegí­tünk fel­is­mer­ni és meg­ér­te­ni hogyan zaj­lik a válasz­tók befo­lyá­so­lá­sa. Miért és hogyan mon­da­nak le embe­rek a válasz­tó­jo­guk­ról vélt elő­nyök\, zsa­ro­lás\, meg­vesz­te­ge­tés\, kény­sze­rí­tés okán.  \nA prog­ram kere­té­ben online műhe­lye­ket tar­tunk\, ahol szak­ér­tő­ink segít­sé­gé­vel mélyeb­ben meg­is­mer­he­ti­tek a válasz­tók befo­lyá­so­lá­sá­nak esz­kö­ze­it\, és hogyan lehet ez elle­ne tenni. \nA regisztráció lezárult! \nA Tisz­ta Sza­va­zás prog­ram meg­va­ló­su­lá­sá­ban a Civil Kol­lé­gi­um Ala­pít­vány\, a TASZ és a Poli­ti­cal Cap­ital műkö­dik közre.
URL:https://www.cka.hu/event/tiszta-szavazas-online-workshop-2/
ATTACH;FMTTYPE=image/jpeg:https://www.cka.hu/wp-content/uploads/2024/04/Tiszta-szaavzas-apr-23.jpeg
END:VEVENT
BEGIN:VEVENT
DTSTART;TZID=Europe/Helsinki:20240427T120000
DTEND;TZID=Europe/Helsinki:20240427T170000
DTSTAMP:20260421T133733
CREATED:20240304T121500Z
LAST-MODIFIED:20240425T130444Z
UID:20918-1714219200-1714237200@www.cka.hu
SUMMARY:Érjetek el társadalmi változást közösen! — Bevezetés a közösségszervezésbe képzés online 3 alkalmas képzés
DESCRIPTION:A kép­zé­si alkal­mak egy­más­ra épül­nek\, így csak együt­te­sen érde­mes eze­ket elvégezni. \nIdő­pont­jai:  \n2024. ápri­lis 27. szom­bat\, 10.00–15.00-ig\n2024. május 4.\, szom­bat\, 10.00–15.00-ig\n2024. május 11.\, szom­bat\, 10.00–15.00-ig \nNagyon fog­lal­koz­tat egy érin­tett közös­ség prob­lé­má­ja\, de úgy érzed\, hogy nem moz­dul­nak\, érdek­te­le­nek a körü­löt­ted lévők a témá­val kap­cso­lat­ban — legyen az okta­tás prob­lé­má­ja\, kire­kesz­tés\, közös­sé­gi össze­fo­gás hiá­nya egy jó ügyért és hasonlók? \n\nMár elkezd­tél szer­vez­ked­ni\, de még csak kevés embert tud­tál mozgósítani?\nVagy nem is tudod\, hogyan fogj hozzá?\n\nJelent­kezz online kép­zé­sünk­re és segí­tünk meg­erő­sí­te­ni közös­sé­ged a haté­kony érdekérvényesítéshez!  \nMire szá­mít­hatsz? Ezek lesz­nek a kép­zés témái: \n\nA közös­ség­szer­ve­zés\, a közös­sé­gi érdek­ér­vé­nye­sí­tés lépé­sei\, alapfogalmai\nStra­té­gia és kam­pány­ter­ve­zés technikák\nFigye­lem­kel­tő és nyo­más­gya­kor­ló taktikák\nFor­rás­te­rem­tés\nA cso­port­mű­kö­dés és a demok­ra­ti­kus szervezetépítés\n\nA kép­zé­sen való rész­vé­tel ingyenes! \nAzon­ban a Civil Kol­lé­gi­um Ala­pít­vány­nak a 24 órás kép­zés (3 alka­lom) 32.000 Ft ‑ba kerül résztvevőnként. \nHa a költ­sé­gek­hez bár­mi­lyen mér­ték­ben hoz­zá tudsz járul­ni\, akkor lehe­tő­vé teszed\, hogy a jövő­ben is hason­ló szín­vo­na­las kép­zé­se­ket\, prog­ra­mo­kat tud­junk megvalósítani. \nA hoz­zá­já­ru­lás mér­té­két a jelent­ke­zé­si lapon tudod beje­löl­ni\, a fize­té­si mód­dal együtt. \n-    Ado­mány­ként a https://www.cka.hu/tamogatas/ olda­lon fizet­he­ted be az összeget. \n-    Kérés­re szám­lát bocsá­tunk ki\, amely alap­ján átuta­lás­sal tudod fedez­ni a vál­lalt hozzájárulást. \nNagyon örü­lünk\, ha támo­gat­ni tudod a CKA‑t a tel­jes költ­ség befizetésével! \nA kép­zés idő­pont­jai és trénerei:  \n\nOnline közös­ség­szer­ve­ző I.: 2024. ápri­lis 27.\,  Juhos Kata-Lász­ló Johanna\nOnline Közös­ség­szer­ve­ző II.: 2024. május 4.\,  Giczey Péter- Csor­dás Anett\nOnline Közös­ség­szer­ve­ző III. 2024. május 11.\, Giczey Péter-Tikász Bendegúz\n\nA kép­zé­si prog­ram­ba való bekap­cso­ló­dás feltételei: \n\nbetöl­tött 18. életév\nmini­mum 8 álta­lá­nos isko­lai végzettség\n\nA beje­lent­ke­zés­hez szük­sé­ges zoom lin­ket a kez­dés előtt küld­jük el e‑mailben. \n  \nJelent­ke­zé­si határ­idő: 2024. ápri­lis 19. \n  \nREGISZTRÁCIÓ ITT!
URL:https://www.cka.hu/event/erjetek-el-tarsadalmi-valtozast-kozosen-bevezetes-a-kozossegszervezesbe-kepzes-online-3-alkalmas-kepzes/
LOCATION:ONLINE\, Magyarország
ATTACH;FMTTYPE=image/jpeg:https://www.cka.hu/wp-content/uploads/2024/03/417696271_823390776490563_3066637357464628027_n-1.jpg
END:VEVENT
END:VCALENDAR