BEGIN:VCALENDAR
VERSION:2.0
PRODID:-//Civil Kollégium Alapítvány - ECPv6.15.20//NONSGML v1.0//EN
CALSCALE:GREGORIAN
METHOD:PUBLISH
X-WR-CALNAME:Civil Kollégium Alapítvány
X-ORIGINAL-URL:https://www.cka.hu
X-WR-CALDESC:Események Civil Kollégium Alapítvány
REFRESH-INTERVAL;VALUE=DURATION:PT1H
X-Robots-Tag:noindex
X-PUBLISHED-TTL:PT1H
BEGIN:VTIMEZONE
TZID:Europe/Helsinki
BEGIN:DAYLIGHT
TZOFFSETFROM:+0200
TZOFFSETTO:+0300
TZNAME:EEST
DTSTART:20230326T010000
END:DAYLIGHT
BEGIN:STANDARD
TZOFFSETFROM:+0300
TZOFFSETTO:+0200
TZNAME:EET
DTSTART:20231029T010000
END:STANDARD
BEGIN:DAYLIGHT
TZOFFSETFROM:+0200
TZOFFSETTO:+0300
TZNAME:EEST
DTSTART:20240331T010000
END:DAYLIGHT
BEGIN:STANDARD
TZOFFSETFROM:+0300
TZOFFSETTO:+0200
TZNAME:EET
DTSTART:20241027T010000
END:STANDARD
BEGIN:DAYLIGHT
TZOFFSETFROM:+0200
TZOFFSETTO:+0300
TZNAME:EEST
DTSTART:20250330T010000
END:DAYLIGHT
BEGIN:STANDARD
TZOFFSETFROM:+0300
TZOFFSETTO:+0200
TZNAME:EET
DTSTART:20251026T010000
END:STANDARD
END:VTIMEZONE
BEGIN:VEVENT
DTSTART;TZID=Europe/Helsinki:20240502T190000
DTEND;TZID=Europe/Helsinki:20240502T210000
DTSTAMP:20260421T120607
CREATED:20240416T065340Z
LAST-MODIFIED:20240502T070224Z
UID:21591-1714676400-1714683600@www.cka.hu
SUMMARY:Együtt-kormányzás műhely a HDM-ben
DESCRIPTION:Együtt-kor­mány­zás avagy co-gover­nance műhely a Helyi Demok­rá­cia Műhe­lyünk­ben! \nAz online műhely során meg­is­mer­he­ti­tek\, mi az együtt-kor­mány­zás (co-gover­nance) gon­do­la­ta\, elmé­le­te\, és sze­re­pe a mai demok­rá­ci­ák­ban. Gya­kor­la­ti pél­dá­kon keresz­tül (Magyar­or­szág­ról és a kör­nye­ző orszá­gok­ból) fel­tár­juk\, mik az együtt­mű­kö­dé­sek intéz­mé­nye­sí­tett kere­tei a civil sze­rep­lők\, állam­pol­gá­rok és a helyi dön­tés­ho­zók között. \nIdő­pont: 2024. Május 2. 17:00 — 19:00 \nElő­adó­ink: \nOross Dáni­el\, PhD poli­to­ló­gus\, dip­lo­mát az ELTE ÁJK Poli­ti­ka­tu­do­má­nyi Inté­ze­té­ben 2009-ben\, dok­to­ri foko­za­tot a Buda­pes­ti Cor­vi­nus Egye­te­men szer­zett 2015 ‑ben. 2011 óta a Tár­sa­da­lom­tu­do­má­nyi Kuta­tó­in­té­zet Poli­ti­ka­tu­do­má­nyi Inté­ze­té­nek mun­ka­tár­sa. Okta­tói tapasz­ta­la­tot a Bibó Ist­ván Szak­kol­lé­gi­um Poli­ti­ka­tu­do­má­nyi Műhe­lyé­nek neve­lő­ta­ná­ra­ként majd okta­tó­ja­ként\, vala­mint a Hart­wick Col­l­e­ge (One­on­ta\, NY\, USA)\, Ful­bright ösz­tön­dí­jas okta­tó­ja­ként szer­zett. Kuta­tá­si terü­le­te: demok­ra­ti­kus innovációk\,a fia­ta­lok válasz­tá­si és sza­va­zói maga­tar­tá­sa\, poli­ti­kai rész­vé­tel\, poli­ti­kai szo­ci­a­li­zá­ció. Demok­ra­ti­kus inno­vá­ci­ók és a magyar pár­tok című kuta­tá­sá­nak ered­mé­nye­it össze­fog­la­ló monog­rá­fi­á­ja ingye­nes regiszt­rá­ci­ót köve­tő­en hoz­zá­fér­he­tő ide kat­tint­va! \nMada­rász Csa­ba\, majd­nem 20 éve fog­lal­ko­zik a demok­ra­ti­kus kul­tú­ra fej­lesz­té­sé­vel. Mun­ká­ját főként a digi­tá­lis és rész­vé­te­li demok­rá­cia terü­le­tén vég­zi\, segít­ve non­pro­fit\, önkor­mány­za­ti\, álla­mi és nem­zet­kö­zi szer­ve­ze­te­ket. Az aHang egyik társ­ala­pí­tó­ja\, az eDe­mok­rá­cia Műhely Egye­sü­let elnök­sé­gi tag­ja\, Közös­sé­gi Digi­tá­lis Esz­kö­zök Ala­pít­vány elnöke. \nRegiszt­rálj a rész­vé­tel­hez 2024. május 2.\, 15.00 óráig: \n\n\n\n\n\n\n\n\n\n\n\n\nREGISZTRÁCIÓ ITT!
URL:https://www.cka.hu/event/egyutt-kormanyzas-muhely-a-hdm-ben/
CATEGORIES:hdm,Műhely
ATTACH;FMTTYPE=image/jpeg:https://www.cka.hu/wp-content/uploads/2024/04/cogovernance_FB-borito.jpg
END:VEVENT
BEGIN:VEVENT
DTSTART;TZID=Europe/Helsinki:20240504T120000
DTEND;TZID=Europe/Helsinki:20240504T170000
DTSTAMP:20260421T120607
CREATED:20240304T122233Z
LAST-MODIFIED:20240425T130544Z
UID:20920-1714824000-1714842000@www.cka.hu
SUMMARY:Érjetek el társadalmi változást közösen! — Bevezetés a közösségszervezésbe képzés online II. Alkalom.
DESCRIPTION:II. Alka­lom. \n  \nRész­le­tek itt!
URL:https://www.cka.hu/event/erjetek-el-tarsadalmi-valtozast-kozosen-bevezetes-a-kozossegszervezesbe-kepzes-online-3-alkalmas-kepzes-2/
LOCATION:ONLINE\, Magyarország
ATTACH;FMTTYPE=image/jpeg:https://www.cka.hu/wp-content/uploads/2024/03/417696271_823390776490563_3066637357464628027_n-1.jpg
END:VEVENT
BEGIN:VEVENT
DTSTART;TZID=Europe/Helsinki:20240511T120000
DTEND;TZID=Europe/Helsinki:20240511T170000
DTSTAMP:20260421T120607
CREATED:20240304T122611Z
LAST-MODIFIED:20240425T130558Z
UID:20922-1715428800-1715446800@www.cka.hu
SUMMARY:Érjetek el társadalmi változást közösen! — Bevezetés a közösségszervezésbe képzés online III. Alkalom.
DESCRIPTION:III. alka­lom \n  \nRész­le­tek ITT!
URL:https://www.cka.hu/event/erjetek-el-tarsadalmi-valtozast-kozosen-bevezetes-a-kozossegszervezesbe-kepzes-online-3-alkalmas-kepzes-3/
ATTACH;FMTTYPE=image/jpeg:https://www.cka.hu/wp-content/uploads/2024/03/417696271_823390776490563_3066637357464628027_n-1.jpg
END:VEVENT
END:VCALENDAR